BEGIN:VCALENDAR
VERSION:2.0
PRODID:-//ChamberMaster//Event Calendar 2.0//EN
METHOD:PUBLISH
X-PUBLISHED-TTL:P3D
REFRESH-INTERVAL:P3D
CALSCALE:GREGORIAN
BEGIN:VEVENT
DTSTART:20141023T210000Z
DTEND:20141024T040000Z
X-MICROSOFT-CDO-ALLDAYEVENT:FALSE
SUMMARY:Up & Coming Paul Childers and The Black Tie Affair October 2014
DESCRIPTION:The talented southern gentleman Paul Childers and his band\, The Black Tie Affair (BTA)\, are coming to the legendary Minnesota Music Caf . The band will be rocking the house with their music all in support of A very ClearCause: Protect Our Students Abroad.
X-ALT-DESC;FMTTYPE=text/html:The talented southern gentleman Paul Childers and his band\, The Black Tie Affair (BTA)\, are coming to the legendary Minnesota Music Caf&eacute\;. The band will be rocking the house with their music all in support of A very ClearCause: Protect Our Students Abroad.
LOCATION:Minnesota Music Cafe\, Minneapolis
UID:e.411.666852
SEQUENCE:3
DTSTAMP:20260425T040505Z
URL:http://dev.setupsite.burnsvillechamber.com/events/details/up-coming-paul-childers-and-the-black-tie-affair-october-2014-10-23-2014-666852
END:VEVENT

END:VCALENDAR
