BEGIN:VCALENDAR
VERSION:2.0
PRODID:-//ChamberMaster//Event Calendar 2.0//EN
METHOD:PUBLISH
X-PUBLISHED-TTL:P3D
REFRESH-INTERVAL:P3D
CALSCALE:GREGORIAN
BEGIN:VEVENT
DTSTART:20200213T230000Z
DTEND:20200214T020000Z
X-MICROSOFT-CDO-ALLDAYEVENT:FALSE
SUMMARY:Valentine Grant Gala
DESCRIPTION:Avoid the typical restaurant crowds and overpriced Valentine's Day menu and join Foundation 191 for an evening of fun for a great cause as we kick off our 2020-2021 ISD One91 district-wide grant program. Event includes catered pasta dinner buffet\, desserts\, chocolate and coffee bar\, cash bar\, silent auction\, raffle\, and door prizes. *New this year: our BHS Orchestra students will play for us during the social hour and tables will share a beautiful cake designed by our BHS Culinary Arts students. All proceeds go directly toward grant awards for innovative projects throughout school district 191. The 2019-2020 grant awards directly impacted almost 6\,000 students and their families\; together we can make a difference in our One91 community.
X-ALT-DESC;FMTTYPE=text/html:Avoid the typical restaurant crowds and overpriced Valentine&rsquo\;s Day menu and join Foundation 191 for an evening of fun for a great cause as we kick off our 2020-2021 ISD One91 district-wide grant program. Event includes catered pasta dinner buffet\, desserts\, chocolate and coffee bar\, cash bar\, silent auction\, raffle\, and door prizes. *New this year: our BHS Orchestra students will play for us during the social hour and tables will share a beautiful cake designed by our BHS Culinary Arts students. All proceeds go directly toward grant awards for innovative projects throughout school district 191. The 2019-2020 grant awards directly impacted almost 6\,000 students and their families\; together we can make a difference in our One91 community.
LOCATION:McColl Pond ELC 13550 Dakota Ave Savage\, MN 55378
UID:e.411.668676
SEQUENCE:3
DTSTAMP:20260420T085107Z
URL:http://dev.setupsite.burnsvillechamber.com/events/details/valentine-grant-gala-668676
END:VEVENT

END:VCALENDAR
