BEGIN:VCALENDAR
VERSION:2.0
PRODID:-//ChamberMaster//Event Calendar 2.0//EN
METHOD:PUBLISH
X-PUBLISHED-TTL:P3D
REFRESH-INTERVAL:P3D
CALSCALE:GREGORIAN
BEGIN:VEVENT
DTSTART:20141213T000000Z
DTEND:20141213T020000Z
X-MICROSOFT-CDO-ALLDAYEVENT:FALSE
SUMMARY:Vision One91 Referendum Meeting
DESCRIPTION:On Nov. 13\, the Burnsville-Eagan-Savage School District 191 Board of Education voted to place two funding questions before voters on Feb. 24\, 2015. This referendum is based on the Vision One91 concept.  If approved\, the funding will be used to implement Vision One91\, a plan to redesign the school district to meet the needs of today's learners and ensure each student is real-world ready.
X-ALT-DESC;FMTTYPE=text/html:<span style="font-size:14px\;"><span style="font-family:verdana\;">On Nov. 13\, the Burnsville-Eagan-Savage School District 191 Board of Education voted to place two funding questions before voters on Feb. 24\, 2015. This referendum is based on the Vision One91 concept.&nbsp\; If approved\, the funding will be used to implement Vision&nbsp\;One91\, a plan to redesign the school district to meet the needs of today&#39\;s learners and ensure each student is real-world ready.</span></span>
LOCATION:Burnsville City Hall 100 Civic Center Pkwy Burnsville\, MN 55337
UID:e.411.666898
SEQUENCE:3
DTSTAMP:20260425T003208Z
URL:http://dev.setupsite.burnsvillechamber.com/events/details/vision-one91-referendum-meeting-12-12-2014-666898
END:VEVENT

END:VCALENDAR
