BEGIN:VCALENDAR
VERSION:2.0
PRODID:-//ChamberMaster//Event Calendar 2.0//EN
METHOD:PUBLISH
X-PUBLISHED-TTL:P3D
REFRESH-INTERVAL:P3D
CALSCALE:GREGORIAN
BEGIN:VEVENT
DTSTART:20141008T163000Z
DTEND:20141008T180000Z
X-MICROSOFT-CDO-ALLDAYEVENT:FALSE
SUMMARY:Will Your Money Stop Working When You Do?
DESCRIPTION:The retirement plan distribution and investment decisions you make when you retire can impact your financial situation the rest of your life. Will your savings provide the money you need to enjoy your retirement\, or will daily living expenses consume most of your income? When you understand your options\, you can avoid costly mistakes and make informed decisions that can help preserve your funds to last througout retirement.\n\n\n\nPresented by: Mike Dale\, Focus Financial
X-ALT-DESC;FMTTYPE=text/html:The retirement plan distribution and investment decisions you make when you retire can impact your financial situation the rest of your life.&nbsp\;Will your savings provide the money you need to enjoy your retirement\, or will daily living expenses consume most of your income? When you understand your options\, you can avoid costly mistakes and make informed decisions that can help preserve your funds to last througout retirement.<br />\n<br />\nPresented by: Mike Dale\, Focus Financial
LOCATION:Better Business Bureau 220 South River Ridge Circle Burnsville\, MN 55337
UID:e.411.666841
SEQUENCE:3
DTSTAMP:20260425T035714Z
URL:http://dev.setupsite.burnsvillechamber.com/events/details/will-your-money-stop-working-when-you-do-10-08-2014-666841
END:VEVENT

END:VCALENDAR
