BEGIN:VCALENDAR
VERSION:2.0
PRODID:-//ChamberMaster//Event Calendar 2.0//EN
METHOD:PUBLISH
X-PUBLISHED-TTL:P3D
REFRESH-INTERVAL:P3D
CALSCALE:GREGORIAN
BEGIN:VEVENT
DTSTART:20150115T223000Z
DTEND:20150116T003000Z
X-MICROSOFT-CDO-ALLDAYEVENT:FALSE
SUMMARY:Women Empowered Wine Tasting & Networking Event @ Total Wine
DESCRIPTION:Enjoy an evening of wine tasting and networking with the Burnsville Chamber's Women Empowered group! The two hour class is titled\, "A Taste of Elegance...your Passport to Europe"\, where we'll be tasting wines from "across the pond". RSVP is required by Monday\, January 13th to the Burnsville Chamber - jina@burnsvillechamber.com or 952.435.6000.  $25/Burnsville Chamber members & $35 for non-members.
X-ALT-DESC;FMTTYPE=text/html:Enjoy an evening of wine tasting and networking with the Burnsville Chamber&#39\;s Women Empowered group! The two hour class is titled\, &quot\;A Taste of Elegance...your Passport to Europe&quot\;\, where we&#39\;ll be tasting wines from &quot\;across the pond&quot\;. RSVP is required by Monday\, January 13th to the Burnsville Chamber - <a href="mailto:jina@burnsvillechamber.com">jina@burnsvillechamber.com</a> or 952.435.6000.&nbsp\; $25/Burnsville Chamber members &amp\; $35 for non-members.
LOCATION:Total Wine & More Burnhaven Shopping Center 820 County Road 42 W Burnsville\, MN 55337 www.totalwine.com
UID:e.411.666899
SEQUENCE:3
DTSTAMP:20260424T224924Z
URL:http://dev.setupsite.burnsvillechamber.com/events/details/women-empowered-wine-tasting-networking-event-total-wine-01-15-2015-666899
END:VEVENT

END:VCALENDAR
