BEGIN:VCALENDAR
VERSION:2.0
PRODID:-//ChamberMaster//Event Calendar 2.0//EN
METHOD:PUBLISH
X-PUBLISHED-TTL:P3D
REFRESH-INTERVAL:P3D
CALSCALE:GREGORIAN
BEGIN:VEVENT
DTSTART:20140326T203000Z
DTEND:20140326T223000Z
X-MICROSOFT-CDO-ALLDAYEVENT:FALSE
SUMMARY:Young Professionals Community Service Event @ Neighbors\, Inc.
DESCRIPTION:"SMYPros" (South Metro Young Professionals) will be stocking shelves at Neighbor's\, Inc. followed by a celebration at Buffalo Wild Wings.  Neighbors is a non-profit\, social service agency serving the Northern Dakota County communities of Inver Grove Heights\, South St. Paul\, West St. Paul\, Mendota Heights\, Mendota\, Sunfish Lake and Lilydale.  Primarily through the service of volunteers\, Neighbors provides emergency assistance and supportive assistance programs.
X-ALT-DESC;FMTTYPE=text/html:&quot\;SMYPros&quot\; (South Metro Young Professionals) will be stocking shelves at Neighbor&#39\;s\, Inc. followed by a celebration at Buffalo Wild Wings.&nbsp\; Neighbors is a non-profit\, social service agency serving the Northern Dakota County communities of Inver Grove Heights\, South St. Paul\, West St. Paul\, Mendota Heights\, Mendota\, Sunfish Lake and Lilydale.&nbsp\; Primarily through the service of volunteers\, Neighbors provides emergency assistance and supportive assistance programs.
LOCATION:Neighbors\, Inc. 222 Grand Avenue West South St. Paul\, MN
UID:e.411.666759
SEQUENCE:3
DTSTAMP:20260425T163646Z
URL:http://dev.setupsite.burnsvillechamber.com/events/details/young-professionals-community-service-event-neighbors-inc-03-26-2014-666759
END:VEVENT

END:VCALENDAR
